BEGIN:VCALENDAR
VERSION:2.0
PRODID:-//SVP Wila //NONSGML Events //EN
CALSCALE:GREGORIAN
X-WR-CALNAME:SVP Wila
BEGIN:VEVENT
CREATED:20220106T210050Z
UID:4428
DTEND:20221025T000000
DTSTART:20221025T000000
DTSTAMP:20260421T084155Z
LOCATION:
DESCRIPTION:
SUMMARY:Delegiertenversammlung SVP Kt. Zürich
ORGANIZER:
URL;VALUE=URI:https://www.svp-wila.ch/termine/delegiertenversammlung-svp-kt-zuerich-4/
TRANSP:OPAQUE
END:VEVENT
END:VCALENDAR
