BEGIN:VCALENDAR
VERSION:2.0
PRODID:-//SVP Wila //NONSGML Events //EN
CALSCALE:GREGORIAN
X-WR-CALNAME:SVP Wila
BEGIN:VEVENT
CREATED:20220102T135648Z
UID:4224
DTEND:20221127T000000
DTSTART:20221127T000000
DTSTAMP:20260424T214802Z
LOCATION:
DESCRIPTION:
SUMMARY:Eidg. und Kant. Abstimmung
ORGANIZER:
URL;VALUE=URI:https://www.svp-wila.ch/termine/eidg-und-kant-abstimmung-4/
TRANSP:OPAQUE
END:VEVENT
END:VCALENDAR
